Package: VennDetail Version: 1.22.0 Command: /home/biocbuild/R/R/bin/R CMD build --keep-empty-dirs --no-resave-data VennDetail StartedAt: 2025-02-04 03:49:09 -0000 (Tue, 04 Feb 2025) EndedAt: 2025-02-04 03:49:31 -0000 (Tue, 04 Feb 2025) EllapsedTime: 22.0 seconds RetCode: 0 Status: OK PackageFile: VennDetail_1.22.0.tar.gz PackageFileSize: 367.8 KiB