Package: VplotR Version: 1.16.0 Command: F:\biocbuild\bbs-3.20-bioc\R\bin\R.exe CMD check --no-multiarch --install=check:VplotR.install-out.txt --library=F:\biocbuild\bbs-3.20-bioc\R\library --no-vignettes --timings VplotR_1.16.0.tar.gz StartedAt: 2025-02-11 07:24:09 -0500 (Tue, 11 Feb 2025) EndedAt: 2025-02-11 07:30:41 -0500 (Tue, 11 Feb 2025) EllapsedTime: 391.9 seconds RetCode: 0 Status: OK CheckDir: VplotR.Rcheck Warnings: 0