Package: VplotR Version: 1.16.0 Command: /home/biocbuild/R/R/bin/R CMD build --keep-empty-dirs --no-resave-data VplotR StartedAt: 2025-02-04 03:50:40 -0000 (Tue, 04 Feb 2025) EndedAt: 2025-02-04 03:53:18 -0000 (Tue, 04 Feb 2025) EllapsedTime: 158.2 seconds RetCode: 0 Status: OK PackageFile: VplotR_1.16.0.tar.gz PackageFileSize: 4.978 MiB