Package: Wrench Version: 1.24.0 Command: rm -rf Wrench.buildbin-libdir && mkdir Wrench.buildbin-libdir && F:\biocbuild\bbs-3.20-bioc\R\bin\R.exe CMD INSTALL --build --library=Wrench.buildbin-libdir Wrench_1.24.0.tar.gz StartedAt: 2025-02-04 09:46:02 -0500 (Tue, 04 Feb 2025) EndedAt: 2025-02-04 09:46:10 -0500 (Tue, 04 Feb 2025) EllapsedTime: 7.8 seconds RetCode: 0 Status: OK PackageFile: Wrench_1.24.0.zip PackageFileSize: 269.4 KiB