Package: Wrench Version: 1.24.0 Command: /home/biocbuild/R/R/bin/R CMD INSTALL Wrench StartedAt: 2025-02-03 20:25:50 -0000 (Mon, 03 Feb 2025) EndedAt: 2025-02-03 20:26:00 -0000 (Mon, 03 Feb 2025) EllapsedTime: 10.0 seconds RetCode: 0 Status: OK