Package: XDE Version: 2.52.0 Command: /Library/Frameworks/R.framework/Resources/bin/R CMD build --keep-empty-dirs --no-resave-data XDE StartedAt: 2025-02-04 10:35:46 -0500 (Tue, 04 Feb 2025) EndedAt: 2025-02-04 10:37:10 -0500 (Tue, 04 Feb 2025) EllapsedTime: 83.9 seconds RetCode: 0 Status: OK PackageFile: XDE_2.52.0.tar.gz PackageFileSize: 1.318 MiB