Package: XDE Version: 2.52.0 Command: /Library/Frameworks/R.framework/Resources/bin/R CMD INSTALL XDE StartedAt: 2025-02-03 17:32:16 -0500 (Mon, 03 Feb 2025) EndedAt: 2025-02-03 17:33:15 -0500 (Mon, 03 Feb 2025) EllapsedTime: 58.6 seconds RetCode: 0 Status: OK