Package: XDE Version: 2.52.0 Command: /Library/Frameworks/R.framework/Resources/bin/R CMD build --keep-empty-dirs --no-resave-data XDE StartedAt: 2025-02-03 23:14:20 -0500 (Mon, 03 Feb 2025) EndedAt: 2025-02-03 23:17:05 -0500 (Mon, 03 Feb 2025) EllapsedTime: 164.4 seconds RetCode: 0 Status: OK PackageFile: XDE_2.52.0.tar.gz PackageFileSize: 1.318 MiB