Package: XDE Version: 2.52.0 Command: /Library/Frameworks/R.framework/Resources/bin/R CMD INSTALL XDE StartedAt: 2025-02-03 16:29:51 -0500 (Mon, 03 Feb 2025) EndedAt: 2025-02-03 16:31:53 -0500 (Mon, 03 Feb 2025) EllapsedTime: 122.4 seconds RetCode: 0 Status: OK