Package: XDE Version: 2.52.0 Command: /home/biocbuild/bbs-3.20-bioc/R/bin/R CMD INSTALL XDE StartedAt: 2025-02-03 15:57:18 -0500 (Mon, 03 Feb 2025) EndedAt: 2025-02-03 15:58:21 -0500 (Mon, 03 Feb 2025) EllapsedTime: 64.0 seconds RetCode: 0 Status: OK