Package: XDE Version: 2.52.0 Command: rm -rf XDE.buildbin-libdir && mkdir XDE.buildbin-libdir && F:\biocbuild\bbs-3.20-bioc\R\bin\R.exe CMD INSTALL --build --library=XDE.buildbin-libdir XDE_2.52.0.tar.gz StartedAt: 2025-02-04 09:46:13 -0500 (Tue, 04 Feb 2025) EndedAt: 2025-02-04 09:47:43 -0500 (Tue, 04 Feb 2025) EllapsedTime: 89.9 seconds RetCode: 0 Status: OK PackageFile: XDE_2.52.0.zip PackageFileSize: 2.298 MiB