Package: XDE Version: 2.52.0 Command: F:\biocbuild\bbs-3.20-bioc\R\bin\R.exe CMD INSTALL XDE StartedAt: 2025-02-03 16:14:37 -0500 (Mon, 03 Feb 2025) EndedAt: 2025-02-03 16:16:29 -0500 (Mon, 03 Feb 2025) EllapsedTime: 112.4 seconds RetCode: 0 Status: OK