Package: XDE Version: 2.52.0 Command: /home/biocbuild/R/R/bin/R CMD build --keep-empty-dirs --no-resave-data XDE StartedAt: 2025-02-04 03:54:17 -0000 (Tue, 04 Feb 2025) EndedAt: 2025-02-04 03:56:25 -0000 (Tue, 04 Feb 2025) EllapsedTime: 128.2 seconds RetCode: 0 Status: OK PackageFile: XDE_2.52.0.tar.gz PackageFileSize: 1.292 MiB