Package: XDE Version: 2.52.0 Command: /home/biocbuild/R/R/bin/R CMD check --install=check:XDE.install-out.txt --library=/home/biocbuild/R/R/site-library --no-vignettes --timings XDE_2.52.0.tar.gz StartedAt: 2025-02-04 12:09:50 -0000 (Tue, 04 Feb 2025) EndedAt: 2025-02-04 12:13:20 -0000 (Tue, 04 Feb 2025) EllapsedTime: 209.4 seconds RetCode: 0 Status: WARNINGS CheckDir: XDE.Rcheck Warnings: 1