Package: XNAString Version: 1.14.0 Command: /Library/Frameworks/R.framework/Resources/bin/R CMD check --install=check:XNAString.install-out.txt --library=/Library/Frameworks/R.framework/Resources/library --no-vignettes --timings XNAString_1.14.0.tar.gz StartedAt: 2025-02-01 13:27:46 -0500 (Sat, 01 Feb 2025) EndedAt: 2025-02-01 13:34:34 -0500 (Sat, 01 Feb 2025) EllapsedTime: 407.9 seconds RetCode: 0 Status: WARNINGS CheckDir: XNAString.Rcheck Warnings: 2