Package: XNAString Version: 1.14.0 Command: /Library/Frameworks/R.framework/Resources/bin/R CMD build --keep-empty-dirs --no-resave-data XNAString StartedAt: 2025-01-30 23:45:09 -0500 (Thu, 30 Jan 2025) EndedAt: 2025-01-30 23:49:52 -0500 (Thu, 30 Jan 2025) EllapsedTime: 283.4 seconds RetCode: 0 Status: OK PackageFile: XNAString_1.14.0.tar.gz PackageFileSize: 1.63 MiB