Package: XNAString Version: 1.14.0 Command: /Library/Frameworks/R.framework/Resources/bin/R CMD check --install=check:XNAString.install-out.txt --library=/Library/Frameworks/R.framework/Resources/library --no-vignettes --timings XNAString_1.14.0.tar.gz StartedAt: 2025-01-31 11:50:54 -0500 (Fri, 31 Jan 2025) EndedAt: 2025-01-31 12:00:20 -0500 (Fri, 31 Jan 2025) EllapsedTime: 566.0 seconds RetCode: 0 Status: WARNINGS CheckDir: XNAString.Rcheck Warnings: 2