Package: XNAString Version: 1.14.0 Command: /home/biocbuild/bbs-3.20-bioc/R/bin/R CMD check --install=check:XNAString.install-out.txt --library=/home/biocbuild/bbs-3.20-bioc/R/site-library --timings XNAString_1.14.0.tar.gz StartedAt: 2025-02-04 03:37:50 -0500 (Tue, 04 Feb 2025) EndedAt: 2025-02-04 03:43:15 -0500 (Tue, 04 Feb 2025) EllapsedTime: 325.8 seconds RetCode: 0 Status: WARNINGS CheckDir: XNAString.Rcheck Warnings: 1