Package: XNAString Version: 1.14.0 Command: rm -rf XNAString.buildbin-libdir && mkdir XNAString.buildbin-libdir && F:\biocbuild\bbs-3.20-bioc\R\bin\R.exe CMD INSTALL --build --library=XNAString.buildbin-libdir XNAString_1.14.0.tar.gz StartedAt: 2025-01-31 09:52:46 -0500 (Fri, 31 Jan 2025) EndedAt: 2025-01-31 09:55:11 -0500 (Fri, 31 Jan 2025) EllapsedTime: 144.7 seconds RetCode: 0 Status: OK PackageFile: XNAString_1.14.0.zip PackageFileSize: 1.945 MiB