Package: XNAString Version: 1.14.0 Command: chmod a+r XNAString -R && F:\biocbuild\bbs-3.20-bioc\R\bin\R.exe CMD build --keep-empty-dirs --no-resave-data XNAString StartedAt: 2025-02-03 22:51:06 -0500 (Mon, 03 Feb 2025) EndedAt: 2025-02-03 22:54:48 -0500 (Mon, 03 Feb 2025) EllapsedTime: 222.0 seconds RetCode: 0 Status: OK PackageFile: XNAString_1.14.0.tar.gz PackageFileSize: 1.63 MiB