Package: XNAString Version: 1.14.0 Command: /home/biocbuild/R/R/bin/R CMD build --keep-empty-dirs --no-resave-data XNAString StartedAt: 2025-02-04 03:55:23 -0000 (Tue, 04 Feb 2025) EndedAt: 2025-02-04 03:59:02 -0000 (Tue, 04 Feb 2025) EllapsedTime: 219.3 seconds RetCode: 0 Status: OK PackageFile: XNAString_1.14.0.tar.gz PackageFileSize: 1.694 MiB