Package: XNAString Version: 1.14.0 Command: /home/biocbuild/R/R/bin/R CMD check --install=check:XNAString.install-out.txt --library=/home/biocbuild/R/R/site-library --no-vignettes --timings XNAString_1.14.0.tar.gz StartedAt: 2025-02-04 12:10:39 -0000 (Tue, 04 Feb 2025) EndedAt: 2025-02-04 12:16:59 -0000 (Tue, 04 Feb 2025) EllapsedTime: 379.1 seconds RetCode: 0 Status: WARNINGS CheckDir: XNAString.Rcheck Warnings: 1