Package: XNAString Version: 1.14.0 Command: /home/biocbuild/R/R/bin/R CMD INSTALL XNAString StartedAt: 2025-02-03 20:54:02 -0000 (Mon, 03 Feb 2025) EndedAt: 2025-02-03 20:56:22 -0000 (Mon, 03 Feb 2025) EllapsedTime: 139.9 seconds RetCode: 0 Status: OK