Package: XVector Version: 0.46.0 Command: /Library/Frameworks/R.framework/Resources/bin/R CMD check --install=check:XVector.install-out.txt --library=/Library/Frameworks/R.framework/Resources/library --no-vignettes --timings XVector_0.46.0.tar.gz StartedAt: 2025-02-01 13:29:22 -0500 (Sat, 01 Feb 2025) EndedAt: 2025-02-01 13:30:43 -0500 (Sat, 01 Feb 2025) EllapsedTime: 81.5 seconds RetCode: 0 Status: WARNINGS CheckDir: XVector.Rcheck Warnings: 2