Package: XVector Version: 0.46.0 Command: rm -rf XVector.buildbin-libdir && mkdir XVector.buildbin-libdir && /Users/biocbuild/BBS/utils/build-universal.sh XVector_0.46.0.tar.gz /Library/Frameworks/R.framework/Resources/bin/R XVector.buildbin-libdir StartedAt: 2025-01-31 13:56:22 -0500 (Fri, 31 Jan 2025) EndedAt: 2025-01-31 13:57:00 -0500 (Fri, 31 Jan 2025) EllapsedTime: 38.5 seconds RetCode: 0 Status: OK PackageFile: XVector_0.46.0.tgz PackageFileSize: 618.9 KiB