Package: XVector Version: 0.46.0 Command: /home/biocbuild/bbs-3.20-bioc/R/bin/R CMD check --install=check:XVector.install-out.txt --library=/home/biocbuild/bbs-3.20-bioc/R/site-library --timings XVector_0.46.0.tar.gz StartedAt: 2025-01-31 03:27:33 -0500 (Fri, 31 Jan 2025) EndedAt: 2025-01-31 03:28:35 -0500 (Fri, 31 Jan 2025) EllapsedTime: 62.1 seconds RetCode: 0 Status: WARNINGS CheckDir: XVector.Rcheck Warnings: 2