Package: XVector Version: 0.46.0 Command: /home/biocbuild/bbs-3.20-bioc/R/bin/R CMD INSTALL XVector StartedAt: 2025-01-30 15:07:57 -0500 (Thu, 30 Jan 2025) EndedAt: 2025-01-30 15:08:17 -0500 (Thu, 30 Jan 2025) EllapsedTime: 19.8 seconds RetCode: 0 Status: OK