Package: XVector Version: 0.46.0 Command: rm -rf XVector.buildbin-libdir && mkdir XVector.buildbin-libdir && F:\biocbuild\bbs-3.20-bioc\R\bin\R.exe CMD INSTALL --build --library=XVector.buildbin-libdir XVector_0.46.0.tar.gz StartedAt: 2025-01-31 09:52:53 -0500 (Fri, 31 Jan 2025) EndedAt: 2025-01-31 09:54:01 -0500 (Fri, 31 Jan 2025) EllapsedTime: 67.8 seconds RetCode: 0 Status: OK PackageFile: XVector_0.46.0.zip PackageFileSize: 614.1 KiB