Package: XVector Version: 0.46.0 Command: chmod a+r XVector -R && F:\biocbuild\bbs-3.20-bioc\R\bin\R.exe CMD build --keep-empty-dirs --no-resave-data XVector StartedAt: 2025-02-03 22:51:10 -0500 (Mon, 03 Feb 2025) EndedAt: 2025-02-03 22:51:16 -0500 (Mon, 03 Feb 2025) EllapsedTime: 5.5 seconds RetCode: 0 Status: OK PackageFile: XVector_0.46.0.tar.gz PackageFileSize: 66.26 KiB