Package: XVector Version: 0.46.0 Command: F:\biocbuild\bbs-3.20-bioc\R\bin\R.exe CMD check --no-multiarch --install=check:XVector.install-out.txt --library=F:\biocbuild\bbs-3.20-bioc\R\library --no-vignettes --timings XVector_0.46.0.tar.gz StartedAt: 2025-02-04 07:33:13 -0500 (Tue, 04 Feb 2025) EndedAt: 2025-02-04 07:34:40 -0500 (Tue, 04 Feb 2025) EllapsedTime: 88.0 seconds RetCode: 0 Status: WARNINGS CheckDir: XVector.Rcheck Warnings: 3