Package: XVector Version: 0.46.0 Command: /home/biocbuild/R/R/bin/R CMD build --keep-empty-dirs --no-resave-data XVector StartedAt: 2025-01-31 03:30:43 -0000 (Fri, 31 Jan 2025) EndedAt: 2025-01-31 03:30:44 -0000 (Fri, 31 Jan 2025) EllapsedTime: 1.0 seconds RetCode: 0 Status: OK PackageFile: XVector_0.46.0.tar.gz PackageFileSize: 66.26 KiB