Package: YAPSA Version: 1.32.0 Command: /Library/Frameworks/R.framework/Resources/bin/R CMD INSTALL YAPSA StartedAt: 2025-02-03 16:50:49 -0500 (Mon, 03 Feb 2025) EndedAt: 2025-02-03 16:52:05 -0500 (Mon, 03 Feb 2025) EllapsedTime: 75.1 seconds RetCode: 0 Status: OK