Package: YAPSA Version: 1.32.0 Command: chmod a+r YAPSA -R && F:\biocbuild\bbs-3.20-bioc\R\bin\R.exe CMD build --keep-empty-dirs --no-resave-data YAPSA StartedAt: 2025-02-03 22:51:17 -0500 (Mon, 03 Feb 2025) EndedAt: 2025-02-03 22:56:07 -0500 (Mon, 03 Feb 2025) EllapsedTime: 290.2 seconds RetCode: 0 Status: OK PackageFile: YAPSA_1.32.0.tar.gz PackageFileSize: 2.77 MiB