Package: ZygosityPredictor Version: 1.6.0 Command: rm -rf ZygosityPredictor.buildbin-libdir && mkdir ZygosityPredictor.buildbin-libdir && /Users/biocbuild/BBS/utils/build-universal.sh ZygosityPredictor_1.6.0.tar.gz /Library/Frameworks/R.framework/Resources/bin/R ZygosityPredictor.buildbin-libdir StartedAt: 2025-02-05 18:19:44 -0500 (Wed, 05 Feb 2025) EndedAt: 2025-02-05 18:20:33 -0500 (Wed, 05 Feb 2025) EllapsedTime: 49.2 seconds RetCode: 0 Status: OK PackageFile: ZygosityPredictor_1.6.0.tgz PackageFileSize: 979.7 KiB