Package: ZygosityPredictor Version: 1.6.0 Command: /Library/Frameworks/R.framework/Resources/bin/R CMD build --keep-empty-dirs --no-resave-data ZygosityPredictor StartedAt: 2025-02-04 10:43:18 -0500 (Tue, 04 Feb 2025) EndedAt: 2025-02-04 10:44:39 -0500 (Tue, 04 Feb 2025) EllapsedTime: 80.6 seconds RetCode: 0 Status: OK PackageFile: ZygosityPredictor_1.6.0.tar.gz PackageFileSize: 823 KiB