Package: ZygosityPredictor Version: 1.6.0 Command: /Library/Frameworks/R.framework/Resources/bin/R CMD check --install=check:ZygosityPredictor.install-out.txt --library=/Library/Frameworks/R.framework/Resources/library --no-vignettes --timings ZygosityPredictor_1.6.0.tar.gz StartedAt: 2025-02-05 14:35:03 -0500 (Wed, 05 Feb 2025) EndedAt: 2025-02-05 14:40:08 -0500 (Wed, 05 Feb 2025) EllapsedTime: 305.1 seconds RetCode: 0 Status: OK CheckDir: ZygosityPredictor.Rcheck Warnings: 0