Package: ZygosityPredictor Version: 1.6.0 Command: /Library/Frameworks/R.framework/Resources/bin/R CMD build --keep-empty-dirs --no-resave-data ZygosityPredictor StartedAt: 2025-02-03 23:16:38 -0500 (Mon, 03 Feb 2025) EndedAt: 2025-02-03 23:18:45 -0500 (Mon, 03 Feb 2025) EllapsedTime: 126.8 seconds RetCode: 0 Status: OK PackageFile: ZygosityPredictor_1.6.0.tar.gz PackageFileSize: 822.8 KiB