Package: ZygosityPredictor Version: 1.6.0 Command: /home/biocbuild/bbs-3.20-bioc/R/bin/R CMD check --install=check:ZygosityPredictor.install-out.txt --library=/home/biocbuild/bbs-3.20-bioc/R/site-library --timings ZygosityPredictor_1.6.0.tar.gz StartedAt: 2025-02-04 03:40:03 -0500 (Tue, 04 Feb 2025) EndedAt: 2025-02-04 03:44:30 -0500 (Tue, 04 Feb 2025) EllapsedTime: 267.3 seconds RetCode: 0 Status: OK CheckDir: ZygosityPredictor.Rcheck Warnings: 0