Package: ZygosityPredictor Version: 1.6.0 Command: rm -rf ZygosityPredictor.buildbin-libdir && mkdir ZygosityPredictor.buildbin-libdir && F:\biocbuild\bbs-3.20-bioc\R\bin\R.exe CMD INSTALL --build --library=ZygosityPredictor.buildbin-libdir ZygosityPredictor_1.6.0.tar.gz StartedAt: 2025-02-04 09:47:12 -0500 (Tue, 04 Feb 2025) EndedAt: 2025-02-04 09:47:57 -0500 (Tue, 04 Feb 2025) EllapsedTime: 45.6 seconds RetCode: 0 Status: OK PackageFile: ZygosityPredictor_1.6.0.zip PackageFileSize: 985.6 KiB