Package: ZygosityPredictor Version: 1.6.0 Command: /home/biocbuild/R/R/bin/R CMD build --keep-empty-dirs --no-resave-data ZygosityPredictor StartedAt: 2025-02-04 03:57:58 -0000 (Tue, 04 Feb 2025) EndedAt: 2025-02-04 03:59:38 -0000 (Tue, 04 Feb 2025) EllapsedTime: 100.1 seconds RetCode: 0 Status: OK PackageFile: ZygosityPredictor_1.6.0.tar.gz PackageFileSize: 848 KiB