Package: ZygosityPredictor Version: 1.6.0 Command: /home/biocbuild/R/R/bin/R CMD check --install=check:ZygosityPredictor.install-out.txt --library=/home/biocbuild/R/R/site-library --no-vignettes --timings ZygosityPredictor_1.6.0.tar.gz StartedAt: 2025-02-04 12:13:02 -0000 (Tue, 04 Feb 2025) EndedAt: 2025-02-04 12:18:14 -0000 (Tue, 04 Feb 2025) EllapsedTime: 312.5 seconds RetCode: 0 Status: OK CheckDir: ZygosityPredictor.Rcheck Warnings: 0