Package: ZygosityPredictor Version: 1.6.0 Command: /home/biocbuild/R/R/bin/R CMD INSTALL ZygosityPredictor StartedAt: 2025-02-03 20:43:13 -0000 (Mon, 03 Feb 2025) EndedAt: 2025-02-03 20:44:03 -0000 (Mon, 03 Feb 2025) EllapsedTime: 50.3 seconds RetCode: 0 Status: OK