Package: a4 Version: 1.54.0 Command: rm -rf a4.buildbin-libdir && mkdir a4.buildbin-libdir && /Users/biocbuild/BBS/utils/build-universal.sh a4_1.54.0.tar.gz /Library/Frameworks/R.framework/Resources/bin/R a4.buildbin-libdir StartedAt: 2025-02-05 14:42:59 -0500 (Wed, 05 Feb 2025) EndedAt: 2025-02-05 14:43:23 -0500 (Wed, 05 Feb 2025) EllapsedTime: 24.0 seconds RetCode: 0 Status: OK PackageFile: a4_1.54.0.tgz PackageFileSize: 1.186 MiB