Package: a4 Version: 1.54.0 Command: /Library/Frameworks/R.framework/Resources/bin/R CMD INSTALL a4 StartedAt: 2025-02-03 17:24:09 -0500 (Mon, 03 Feb 2025) EndedAt: 2025-02-03 17:24:30 -0500 (Mon, 03 Feb 2025) EllapsedTime: 21.1 seconds RetCode: 0 Status: OK