Package: a4 Version: 1.54.0 Command: /Library/Frameworks/R.framework/Resources/bin/R CMD build --keep-empty-dirs --no-resave-data a4 StartedAt: 2025-02-03 16:58:09 -0500 (Mon, 03 Feb 2025) EndedAt: 2025-02-03 17:02:34 -0500 (Mon, 03 Feb 2025) EllapsedTime: 264.9 seconds RetCode: 0 Status: OK PackageFile: a4_1.54.0.tar.gz PackageFileSize: 1.189 MiB