Package: a4 Version: 1.54.0 Command: /home/biocbuild/bbs-3.20-bioc/R/bin/R CMD INSTALL a4 StartedAt: 2025-02-03 15:55:24 -0500 (Mon, 03 Feb 2025) EndedAt: 2025-02-03 15:55:44 -0500 (Mon, 03 Feb 2025) EllapsedTime: 20.3 seconds RetCode: 0 Status: OK