Package: a4 Version: 1.54.0 Command: rm -rf a4.buildbin-libdir && mkdir a4.buildbin-libdir && F:\biocbuild\bbs-3.20-bioc\R\bin\R.exe CMD INSTALL --build --library=a4.buildbin-libdir a4_1.54.0.tar.gz StartedAt: 2025-02-04 07:55:38 -0500 (Tue, 04 Feb 2025) EndedAt: 2025-02-04 07:56:16 -0500 (Tue, 04 Feb 2025) EllapsedTime: 38.0 seconds RetCode: 0 Status: OK PackageFile: a4_1.54.0.zip PackageFileSize: 1023 KiB