Package: a4 Version: 1.54.0 Command: chmod a+r a4 -R && F:\biocbuild\bbs-3.20-bioc\R\bin\R.exe CMD build --keep-empty-dirs --no-resave-data a4 StartedAt: 2025-02-03 17:24:34 -0500 (Mon, 03 Feb 2025) EndedAt: 2025-02-03 17:27:51 -0500 (Mon, 03 Feb 2025) EllapsedTime: 197.0 seconds RetCode: 0 Status: OK PackageFile: a4_1.54.0.tar.gz PackageFileSize: 1023 KiB