Package: a4 Version: 1.54.0 Command: F:\biocbuild\bbs-3.20-bioc\R\bin\R.exe CMD check --no-multiarch --install=check:a4.install-out.txt --library=F:\biocbuild\bbs-3.20-bioc\R\library --no-vignettes --timings a4_1.54.0.tar.gz StartedAt: 2025-02-03 23:00:18 -0500 (Mon, 03 Feb 2025) EndedAt: 2025-02-03 23:01:19 -0500 (Mon, 03 Feb 2025) EllapsedTime: 61.5 seconds RetCode: 0 Status: OK CheckDir: a4.Rcheck Warnings: 0