Package: a4 Version: 1.54.0 Command: F:\biocbuild\bbs-3.20-bioc\R\bin\R.exe CMD INSTALL a4 StartedAt: 2025-02-03 16:13:23 -0500 (Mon, 03 Feb 2025) EndedAt: 2025-02-03 16:13:44 -0500 (Mon, 03 Feb 2025) EllapsedTime: 20.5 seconds RetCode: 0 Status: OK